BEGIN:VCALENDAR
VERSION:2.0
PRODID:-//eventon.com NONSGML v1.0//EN
CALSCALE:GREGORIAN
METHOD:PUBLISH
BEGIN:VEVENT
UID:69e7abdd4a3a5
DTSTAMP:20260421T165453Z
DTSTART:20260425T130000Z
DTEND:20260425T180000Z
LOCATION:Drummond Island Township Hall 29935 E. Pine St
SUMMARY:Annual Spring ATV/ORV Trail Cleanup
DESCRIPTION:Volunteer Opportunity: Drummond Island Off-Road Alliance (DIORA
 )’s Annual Spring Cleanup Start Time: 9 AM &#8211; Donuts\,  Check in a
 nd Assign off-road routes/roadside cleanup areas Meeting Location: Drummon
 d Island Township hall parking lot: 29935 E Pine St What to Bring: Loppers
 \,  chainsaws and other trail brushing tools Large\,  durable trash bags &a
 mp; gloves Waterproof boots[..]\nhttps://visitdrummondisland.com/events/ann
 ual-spring-atv-orv-trail-cleanup/
URL:https://visitdrummondisland.com/events/annual-spring-atv-orv-trail-cleanup/
END:VEVENT
END:VCALENDAR